BEGIN:VCALENDAR
VERSION:2.0
PRODID:-//Unlimited Potential//NONSGML v1.0//EN
BEGIN:VEVENT
UID:UPR14396.52238@uprealestate.co.nz
DTSTAMP:20180123T025119Z

ORGANIZER;CN=Greg Gibson:MAILTO:greg@uprealestate.co.nz

DTSTART:20180120T223000Z
DTEND:20180120T231000Z
SUMMARY:Open Home at 9/23-25 Towai Street, Saint Heliers

LOCATION:9/23-25 Towai Street, Saint Heliers

END:VEVENT
END:VCALENDAR
