BEGIN:VCALENDAR
VERSION:2.0
PRODID:-//Unlimited Potential//NONSGML v1.0//EN
BEGIN:VEVENT
UID:UPR14385.auction@uprealestate.co.nz
DTSTAMP:20180123T030817Z

ORGANIZER;CN=Bryce Holmes:MAILTO:bryce.holmes@uprealestate.co.nz

DTSTART:20180221T230000Z
DTEND:20180222T000000Z
SUMMARY:Auction of 4/7 The Parade, Saint Heliers

END:VEVENT
END:VCALENDAR
