BEGIN:VCALENDAR
VERSION:2.0
PRODID:-//Unlimited Potential//NONSGML v1.0//EN
BEGIN:VEVENT
UID:UPR14363.auction@uprealestate.co.nz
DTSTAMP:20180123T025301Z

ORGANIZER;CN=Mark Atterbury:MAILTO:mark.atterbury@uprealestate.co.nz

DTSTART:20180215T000000Z
DTEND:20180215T010000Z
SUMMARY:Auction of 28A Ngake Street, Orakei

END:VEVENT
END:VCALENDAR
