BEGIN:VCALENDAR
VERSION:2.0
PRODID:-//Unlimited Potential//NONSGML v1.0//EN
BEGIN:VEVENT
UID:UPM11585.52245@uprealestate.co.nz
DTSTAMP:20180123T025227Z

ORGANIZER;CN=Neil Bailey:MAILTO:neil@uprealestate.co.nz

DTSTART:20180120T230000Z
DTEND:20180120T234500Z
SUMMARY:Open Home at 2D Clyde Street, Epsom

LOCATION:2D Clyde Street, Epsom

END:VEVENT
END:VCALENDAR
