BEGIN:VCALENDAR
VERSION:2.0
PRODID:-//Unlimited Potential//NONSGML v1.0//EN
BEGIN:VEVENT
UID:UPM11582.auction@uprealestate.co.nz
DTSTAMP:20180123T025325Z

ORGANIZER;CN=Bret Glazer:MAILTO:bret@uprealestate.co.nz

DTSTART:20180214T010000Z
DTEND:20180214T020000Z
SUMMARY:Auction of 104 A Balmoral Road, Mount Eden

END:VEVENT
END:VCALENDAR
