BEGIN:VCALENDAR
VERSION:2.0
PRODID:-//Unlimited Potential//NONSGML v1.0//EN
BEGIN:VEVENT
UID:UPM11578.52179@uprealestate.co.nz
DTSTAMP:20180123T025238Z

ORGANIZER;CN=Godfrey Twigden:MAILTO:godfrey@uprealestate.co.nz

DTSTART:20180120T230000Z
DTEND:20180120T233000Z
SUMMARY:Open Home at 295c Mount Eden Road, Mount Eden

LOCATION:295c Mount Eden Road, Mount Eden

END:VEVENT
END:VCALENDAR
